BEGIN:VCALENDAR
VERSION:2.0
PRODID:-//Carina Barberá - ECPv5.14.1//NONSGML v1.0//EN
CALSCALE:GREGORIAN
METHOD:PUBLISH
X-WR-CALNAME:Carina Barberá
X-ORIGINAL-URL:https://carina-barbera.com
X-WR-CALDESC:Eventos para Carina Barberá
BEGIN:VTIMEZONE
TZID:Europe/Madrid
BEGIN:DAYLIGHT
TZOFFSETFROM:+0100
TZOFFSETTO:+0200
TZNAME:CEST
DTSTART:20250330T010000
END:DAYLIGHT
BEGIN:STANDARD
TZOFFSETFROM:+0200
TZOFFSETTO:+0100
TZNAME:CET
DTSTART:20251026T010000
END:STANDARD
END:VTIMEZONE
BEGIN:VEVENT
DTSTART;TZID=Europe/Madrid:20250928T100000
DTEND;TZID=Europe/Madrid:20250928T113000
DTSTAMP:20260422T182931
CREATED:20250918T075850Z
LAST-MODIFIED:20250920T134953Z
UID:1452-1759053600-1759059000@carina-barbera.com
SUMMARY:KUNDALINI ACTIVATION KAE® VALENCIA
DESCRIPTION:Domingo 28 de Septiembre a las 10.00 horas – Sesión de 90 minutos \nReactivar tu Energía Kundalini es una manera extraordinaria de liberarte de emociones y bloqueos y acceder a un nivel más elevado de consciencia. \nLa manera ideal de venir a una sesión de Activación de Energía Kundalini es sin expectativas. \nNo se necesita experiencia\, se trata de entregarte a sentir tu Energía Kundalini y permitir que todos tus sistemas se reequilibren para tu mayor bien. \nAlgunos de los beneficios que vas a recibir son: \n\nReactivación de tu energía vital.\nEquilibrio de tu sistema energético.\nLiberación de bloqueos y emociones.\n\nA menudo las personas que viven una reactivación de Energía Kundalini encuentran más claridad y fuerza para avanzar en su vida. \nLa magia de las sesiones de Activación de Energía Kundalini continua en los días y semanas siguientes con los cambios internos y externos que se van produciendo en tu vida. \nEn la sesión de Activación de Energía Kundalini vas a experimentar tres energías: la energía Universal\, la energía Kundalini y la energía Toroidal. \nRealizaré la transmisión energética de la energía Universal con la que se activará tu energía kundalini\, tu energía natural interna\, que circula por toda la espina dorsal desde el sacro hasta la cabeza\, para que recupere su potencia natural y originaria. \nEsta reactivación de la Kundalini (también llamada energía vital) es la que ayuda a eliminar los diferentes bloqueos internos de la persona. El origen de estos bloqueos proviene de la acumulación de densidad energética que guarda el cuerpo tras cada trauma o experiencia dolorosa vivida. Esta acumulación genera una serie de nudos energéticos que altera el funcionamiento óptimo y saludable del cuerpo físico porque entorpecen el correcto fluir de la energía Kundalini. \nSi el agua de una manguera lo comparamos con la energía Kundalini en nuestro cuerpo\, el agua pierde potencia si la manguera se enreda y se llena de nudos. Lo mismo le ocurre a la Kundalini\, la energía pura con la que nacemos. \nEsos nudos energéticos se van deshaciendo en cada sesión de KAE®. La energía vital recupera su fuerza y purifica todo lo que toca a su paso. \nAlgunos de los efectos que suelen experimentar las personas que reciben una sesión de Activación de le Energía Kundalini – KAE®: \n– Favorece la regulación y equilibrio del sistema nervioso: alivia el estado permanente de alerta que conduce a la ansiedad y al estrés crónico. \n– Reequilibra los sistemas energético y celular. \n– Ayuda a desbloquear y produce una liberación emocional: las \nemociones no expresadas y contenidas en el cuerpo\, bloquean la energía interna. \n– Sus beneficios se sienten en forma de calma\, tranquilidad\, seguridad interna\, flexibilidad\, regulación emocional\, etc. \n– Permite acceder a nuevos estados de consciencia. \n– Aumenta la creatividad\, la confianza personal\, la toma de decisiones. \n– Produce una conexión con los verdaderos intereses y motivaciones de las personas. \nFacilita Carina Barberá en colaboración con Coworking Consciente – Facilitadora Certificada Kundalini Activation Energy® – KAE® \n¡¡Plazas limitadas!! \nAportación: 50 euros \nTe espero el Domingo 28 de Septiembre de 10:00 horas a 11:30 horas\, en la Alquería Casa Sensio i Conchin en Ctra. En Corts – Entrada Alquería Real Valencia \nReserva tu plaza enviándome un WhatsApp al 674 56 33 05 o haciendo clic en este enlace https://wa.link/ovw6w5
URL:https://carina-barbera.com/evento/kundalini-activation-kae-valencia-2/
LOCATION:Alquería Casa Sensio i Conchin\, Ctra. En Corts - Entrada Alquería Real\, Valencia\, Valencia\, 46013\, España
ATTACH;FMTTYPE=image/jpeg:https://carina-barbera.com/wp-content/uploads/2025/09/Copia-de-KAE-VALENCIA-web-julio-2025.jpg
ORGANIZER;CN="Carina%20Barber%C3%A1":MAILTO:coach@carina-barbera.com
END:VEVENT
END:VCALENDAR